BEGIN:VCALENDAR
VERSION:2.0
PRODID:-//TYPO3/NONSGML Calendarize//EN
BEGIN:VEVENT
UID:calendarize-open-office-20260424
DTSTAMP:20260423T114152Z
DTSTART:20260424T110000Z
DTEND:20260424T120000Z
SUMMARY:Open Office
DESCRIPTION:Meine offene Bürger*innen-Sprechstunde findet sowohl virtuell
  als auch in Präsenz statt: Ihre Fragen und Anliegen bespreche ich gerne 
 persönlich mit Ihnen in meinem Regionalbüro\, Wasserturmstraße 8\, in d
 er Erlanger Altstadt. Gleichzeitig möchte ich Euch und Ihnen die Möglich
 keit eines virtuellen Austausches anbieten. Ich freue mich über spontane 
 Zuschaltungen zum Webmeeting über diesen Zoom-Link https://eu02web.zoom-
 x.de/my/zwanziger\nEine Anmeldung ist nicht erforderlich.\nDa es immer wie
 der sehr kurzfristig zu Terminverschiebungen kommen kann\, informieren Sie
  sich bitte tagesaktuell hier auf der Homepage\, ob es Änderungen bei den
  Sprechzeiten gibt.
X-ALT-DESC;FMTTYPE=text/html:<p>Meine offene Bürger*innen-Sprechstunde fi
 ndet sowohl virtuell als auch in Präsenz statt: Ihre Fragen und Anliegen 
 bespreche ich gerne persönlich mit Ihnen in meinem Regionalbüro\, Wasser
 turmstraße 8\, in der Erlanger Altstadt. Gleichzeitig möchte ich Euch un
 d Ihnen die Möglichkeit eines virtuellen Austausches anbieten. Ich freue 
 mich über spontane Zuschaltungen zum Webmeeting über diesen Zoom-Link&nb
 sp\;<a href="https://eu02web.zoom-x.de/my/zwanziger">https://eu02web.zoom-
 x.de/my/zwanziger</a></p>\n<p>Eine Anmeldung ist nicht erforderlich.</p>\n
 <p>Da es immer wieder sehr kurzfristig zu Terminverschiebungen kommen kann
 \, informieren Sie sich bitte tagesaktuell hier auf der Homepage\, ob es Ä
 nderungen bei den Sprechzeiten gibt.</p>
LOCATION:Wasserturmstraße 8\, Erlangen und online
END:VEVENT
END:VCALENDAR
